BEGIN:VCALENDAR
VERSION:2.0
PRODID:-//s.v. Trifonius - ECPv6.6.2//NONSGML v1.0//EN
CALSCALE:GREGORIAN
METHOD:PUBLISH
X-WR-CALNAME:s.v. Trifonius
X-ORIGINAL-URL:https://svtrifonius.nl
X-WR-CALDESC:Evenementen voor s.v. Trifonius
REFRESH-INTERVAL;VALUE=DURATION:PT1H
X-Robots-Tag:noindex
X-PUBLISHED-TTL:PT1H
BEGIN:VTIMEZONE
TZID:Europe/Amsterdam
BEGIN:DAYLIGHT
TZOFFSETFROM:+0100
TZOFFSETTO:+0200
TZNAME:CEST
DTSTART:20160327T010000
END:DAYLIGHT
BEGIN:STANDARD
TZOFFSETFROM:+0200
TZOFFSETTO:+0100
TZNAME:CET
DTSTART:20161030T010000
END:STANDARD
END:VTIMEZONE
BEGIN:VEVENT
DTSTART;TZID=Europe/Amsterdam:20160324T140000
DTEND;TZID=Europe/Amsterdam:20160324T225500
DTSTAMP:20260423T105153
CREATED:20160308T081852Z
LAST-MODIFIED:20160308T113115Z
UID:2710-1458828000-1458860100@svtrifonius.nl
SUMMARY:Wodka Onesie Party
DESCRIPTION:Themafeest 2016 \nJAJA het is bijna weer zover\, het themafeest 2016!! Commissie Doorzakking presenteert aan u: WODKA ONESIE PARTY. Dit te gekke feest zal gehouden worden op donderdag 24 maart. Mocht je nog geen onesie hebben\, ga dan als een malle de stad in. De locatie is in Lokaal’99. Het feest begint ‘s middags 15:00 uur en eindigt om 23:59 uur bij Lokaal’99. Daarna zal deze nacht voortgezet worden in Arnhem centrum. \nGRATIS ENTREE\, dus wat houd je tegen?! Dit wordt het moment om je gekste onesie te showen\, gekste knuffeldier mee te nemen en weer eens de lekkerste shotjes te nemen bij onze wodkabar! Denk niet dat je zal gaan verhongeren want er zullen overheerlijke hamburgers gebakken worden! \nWe ONE (to) SIE joe!
URL:https://svtrifonius.nl/activiteiten/wodka-onesie-party/
LOCATION:Lokaal’99\, Ruitenberglaan 33\, Arnhem\, 6826 CC\, Nederland
CATEGORIES:Algemeen leden,BE studenten,Commissieleden,Iedereen,Vrienden van s.v. Trifonius
ORGANIZER;CN="Commissie Doorzakking":MAILTO:doorzakking@svtrifonius.nl
END:VEVENT
BEGIN:VEVENT
DTSTART;TZID=Europe/Amsterdam:20160218T140000
DTEND;TZID=Europe/Amsterdam:20160218T210000
DTSTAMP:20260423T105153
CREATED:20160212T161343Z
LAST-MODIFIED:20160212T161439Z
UID:2642-1455804000-1455829200@svtrifonius.nl
SUMMARY:Diplomauitreiking
DESCRIPTION:Meer info volgt
URL:https://svtrifonius.nl/activiteiten/diplomauitreiking/
LOCATION:HAN Built Environment\, Ruitenberglaan 26\, Arnhem\, Gelderland\, 6811 HZ\, Nederland
CATEGORIES:Algemeen leden,BE studenten,Commissieleden,Iedereen,Vrienden van s.v. Trifonius
ORGANIZER;CN="Commissie Resultante":MAILTO:resultante@svtrifonius.nl
END:VEVENT
END:VCALENDAR