BEGIN:VCALENDAR
VERSION:2.0
PRODID:-//s.v. Trifonius - ECPv6.6.2//NONSGML v1.0//EN
CALSCALE:GREGORIAN
METHOD:PUBLISH
X-WR-CALNAME:s.v. Trifonius
X-ORIGINAL-URL:https://svtrifonius.nl
X-WR-CALDESC:Evenementen voor s.v. Trifonius
REFRESH-INTERVAL;VALUE=DURATION:PT1H
X-Robots-Tag:noindex
X-PUBLISHED-TTL:PT1H
BEGIN:VTIMEZONE
TZID:Europe/Amsterdam
BEGIN:DAYLIGHT
TZOFFSETFROM:+0100
TZOFFSETTO:+0200
TZNAME:CEST
DTSTART:20250330T010000
END:DAYLIGHT
BEGIN:STANDARD
TZOFFSETFROM:+0200
TZOFFSETTO:+0100
TZNAME:CET
DTSTART:20251026T010000
END:STANDARD
BEGIN:DAYLIGHT
TZOFFSETFROM:+0100
TZOFFSETTO:+0200
TZNAME:CEST
DTSTART:20260329T010000
END:DAYLIGHT
BEGIN:STANDARD
TZOFFSETFROM:+0200
TZOFFSETTO:+0100
TZNAME:CET
DTSTART:20261025T010000
END:STANDARD
END:VTIMEZONE
BEGIN:VEVENT
DTSTART;TZID=Europe/Amsterdam:20250910T160000
DTEND;TZID=Europe/Amsterdam:20250910T230000
DTSTAMP:20260421T065110
CREATED:20250903T130856Z
LAST-MODIFIED:20250910T075147Z
UID:7669-1757520000-1757545200@svtrifonius.nl
SUMMARY:Meat and greet BBQ
DESCRIPTION:Lieve trifo’s en trifa’s\, \nHeb jij een leuke vakantie gehad\, en wil je nog even genieten van de laatste zomerse BBQ.🍔⛱ \nOverspannend en Impuls organiseren de Meat & Greet! Tijdens een BBQ vertellen de commissievoorzitters over hun commissie en kan je je aanmelden om de commissie te versterken!! 💪Vervolgens gaan we door naar Lokaal’99 om nog door te feesten. \nNeem al je nieuwe studiegenoten mee! Met z’n allen ‘’Van bouwplan naar bierkan’’. 🔨🍺Onderweg staat er een gratis\, lekker shotje op je te wachten. \nKaartjes kosten €5. Voor de eerstejaars die lid zijn geworden van Trifonius tijdens de introweek is de meat & greet gratis. \nBij de BBQ en lokaal kan er betaald worden met de munten van de introweek \nWie: Alle trifo’s en trifa’s die zin hebben in een feestje\nWat: BBQ + eerstejaarsfeest\nWaar: Steigers bij de werkplaats van R26 (17:00 – 20:00) en Lokaal ’99 (20:00 – 23:00)\nWanneer: 10 september 2025
URL:https://svtrifonius.nl/activiteiten/meat-and-greet-bbq/
LOCATION:HAN Built Environment\, Ruitenberglaan 26\, Arnhem\, Gelderland\, 6811 HZ\, Nederland
CATEGORIES:Iedereen
ATTACH;FMTTYPE=image/png:https://svtrifonius.nl/www.svtrifonius.nl/wp-content/uploads/2025/09/Meat-Great.png
END:VEVENT
BEGIN:VEVENT
DTSTART;TZID=Europe/Amsterdam:20251204T190000
DTEND;TZID=Europe/Amsterdam:20251204T223000
DTSTAMP:20260421T065110
CREATED:20251110T104522Z
LAST-MODIFIED:20251203T121622Z
UID:34038-1764874800-1764887400@svtrifonius.nl
SUMMARY:Casino Night
DESCRIPTION:Beste Trifo’s en Trifa’s\, \nZet je beste pokerface maar op\, want Casino Night is weer terug van weggeweest!🎲✨ \nOp donderdag 4 december toveren we de Koepelgevangenis van Arnhem in het leukste casino van het oosten! Verwacht een avond vol gezelligheid en natuurlijk de klassiekers: blackjack\, roulette en paardenrace.🏇 \nIedere speler start met pokerchips om zijn geluk te beproeven. Wie weet loop jij aan het einde van de avond naar buiten met de hoofdprijs.🏆 \nDus… schuif aan bij de tafel\, zet in op rood en laat het lot beslissen. 🎰 \nKlik op de link hieronder en claim je plek aan de speeltafel\, voordat het casino zijn deuren sluit!🥂 \nWie: iedereen\nWat: Casinoavond\nWaar: Koepelgevangenis\, Arnhem\nWanneer: donderdag 4 december\nHoe laat: 19:00-22:30\nHoeveel: leden €8 niet-leden €10\nDresscode: casino chique💃 \nWees er snel bij want OP=OP!!
URL:https://svtrifonius.nl/activiteiten/casino-night/
LOCATION:Privé: Koepelgevangenis\, Wilhelminastraat 16\, Arnhem\, Gelderland\, 6812CW
CATEGORIES:Iedereen
ATTACH;FMTTYPE=image/jpeg:https://svtrifonius.nl/www.svtrifonius.nl/wp-content/uploads/2025/11/casino-night-1_1.jpg
ORGANIZER;CN="Commissie Doorzakking":MAILTO:doorzakking@svtrifonius.nl
END:VEVENT
BEGIN:VEVENT
DTSTART;TZID=Europe/Amsterdam:20260225T161500
DTEND;TZID=Europe/Amsterdam:20260225T183000
DTSTAMP:20260421T065110
CREATED:20260210T195737Z
LAST-MODIFIED:20260213T105811Z
UID:34704-1772036100-1772044200@svtrifonius.nl
SUMMARY:Tender Hackathlon
DESCRIPTION:🚧🍻 Tender Hackathon: Stationsgebied Nijmegen. Op woensdag 25 februari in het studielandschap werken jullie in teams aan een fictieve opdracht voor Station Nijmegen 2.0. \nWe begrijpen dat een tender winnen dorstig maakt. Daarom staat het bier koud tijdens de tender. Na de tender om de samenwerking te vieren\, gaan we naar afloop naar haanstaart feest!🍸🎉 \nWie: Iedereen \nWat: Tender Hackathon  \nWaar: Studielandschap  \nWanneer: 25 februari\, R26 \nHoelaat: 16:15 tot ca.18:30 \nKosten: gratis
URL:https://svtrifonius.nl/activiteiten/tender-hackathlon/
LOCATION:Studielandschap\, Ruitenberglaan 26\, Arnhem\, Nederland
CATEGORIES:Iedereen
ATTACH;FMTTYPE=image/jpeg:https://svtrifonius.nl/www.svtrifonius.nl/wp-content/uploads/2026/02/4da2916a-d1f9-4a7f-af3e-d46034329b09.jpeg
END:VEVENT
BEGIN:VEVENT
DTSTART;TZID=Europe/Amsterdam:20260319T200000
DTEND;TZID=Europe/Amsterdam:20260319T200000
DTSTAMP:20260421T065110
CREATED:20260228T122204Z
LAST-MODIFIED:20260302T111417Z
UID:34847-1773950400-1773950400@svtrifonius.nl
SUMMARY:Back to the 70´s
DESCRIPTION:Beste Trifo’s en Trifa’s\, \nBinnenkort is het weer zover: het jaarlijkse Doorzakking Themafeest! 🎉 \nRetro Rewind neemt jullie terug de tijd in naar de seventies met swingende disco🪩\, glinsterende outfits✨ en herkenbare klassiekers🎵. Verwacht een avond vol gezelligheid\, precies zoals je van Doorzakking gewend bent. \nTrek je beste disco-outfit uit de kast en neem vooral je vrienden mee! \nDresscode: Disco Fever \nWie: Leden en niet-leden \nWat: Themafeest\, Retro Rewind: Back to the 70’s! \nWaar: Dollars Live\, Arnhem \nWanneer: donderdag 19 maart 2026 \nHoe laat: 20:00 – 00:00 (deuren sluiten om 21:30) \nKosten: Leden €5\, Niet-leden €7\,50 \n  \nLink: https://svtrifonius.nl/activiteiten/back-to-the-70s/ \nVeel liefs\, \nWillie de Vos de III 🌻
URL:https://svtrifonius.nl/activiteiten/back-to-the-70s/
LOCATION:Privé: Dollars Live\, Korenmarkt 41a\, Arnhem\, Gelderland\, 6811 GW\, Nederland
CATEGORIES:Iedereen
ATTACH;FMTTYPE=image/png:https://svtrifonius.nl/www.svtrifonius.nl/wp-content/uploads/2026/02/themafeest-e1772282148306.png
ORGANIZER;CN="Commissie Doorzakking":MAILTO:doorzakking@svtrifonius.nl
END:VEVENT
END:VCALENDAR