BEGIN:VCALENDAR
VERSION:2.0
PRODID:-//s.v. Trifonius - ECPv6.6.2//NONSGML v1.0//EN
CALSCALE:GREGORIAN
METHOD:PUBLISH
X-WR-CALNAME:s.v. Trifonius
X-ORIGINAL-URL:https://svtrifonius.nl
X-WR-CALDESC:Evenementen voor s.v. Trifonius
REFRESH-INTERVAL;VALUE=DURATION:PT1H
X-Robots-Tag:noindex
X-PUBLISHED-TTL:PT1H
BEGIN:VTIMEZONE
TZID:Europe/Amsterdam
BEGIN:DAYLIGHT
TZOFFSETFROM:+0100
TZOFFSETTO:+0200
TZNAME:CEST
DTSTART:20260329T010000
END:DAYLIGHT
BEGIN:STANDARD
TZOFFSETFROM:+0200
TZOFFSETTO:+0100
TZNAME:CET
DTSTART:20261025T010000
END:STANDARD
END:VTIMEZONE
BEGIN:VEVENT
DTSTART;TZID=Europe/Amsterdam:20260422T193000
DTEND;TZID=Europe/Amsterdam:20260422T235900
DTSTAMP:20260422T013149
CREATED:20260402T100006Z
LAST-MODIFIED:20260414T140210Z
UID:35105-1776886200-1776902340@svtrifonius.nl
SUMMARY:Intro & Bingo night
DESCRIPTION:Lieve Trifo’s en Trifa’s\, \nDe introductieweek komt steeds dichterbij.\nWe zouden graag de eerste informatie met jullie delen!\nDaarom nodigen we jullie uit voor de Intro & bingo night op woensdag 22 april. \nWe beginnen de avond met de infoborrel waarin Wobble zich voorstelt en de plannen voor de\nintroductieweek worden toegelicht. Ook leggen we uit hoe je crew\, tapcrew of papa/mama kunt worden.\nDirect na deze uitleg openen de aanmeldingen\, dus mis het niet als je wilt helpen bij de intro! \nNa alle informatie is het tijd om de avond écht goed te starten met een Muziekbingo!\nSamen zingen\, proosten en genieten van een onvergetelijke avond bij pianobar. \nWie: alle trifo leden\nWat: Intro & bingo night\nWaar: Freaky piano bar Arnhem\nWanneer: Woensdag 22 april\nHoelaat: 19:30 – 00:00\nKosten: €3\,00 \nVeel liefs\,\nWillie de Vos III
URL:https://svtrifonius.nl/activiteiten/intro-bingo-night/
LOCATION:Privé: Freaky Piano bar\, 27\, Korenmarkt\, 6811 GW Arnhem
CATEGORIES:Algemeen leden
ATTACH;FMTTYPE=image/jpeg:https://svtrifonius.nl/www.svtrifonius.nl/wp-content/uploads/2026/04/IMG_1322.jpeg
ORGANIZER;CN="Commissie Wobble":MAILTO:wobble@svtrifonius.nl
END:VEVENT
END:VCALENDAR